BEGIN:VCALENDAR
VERSION:2.0
PRODID:-//Guldkullens Kennel &amp; Kurser - ECPv6.15.12.2//NONSGML v1.0//EN
CALSCALE:GREGORIAN
METHOD:PUBLISH
X-ORIGINAL-URL:https://guldkullens.se
X-WR-CALDESC:Händelser för Guldkullens Kennel &amp; Kurser
REFRESH-INTERVAL;VALUE=DURATION:PT1H
X-Robots-Tag:noindex
X-PUBLISHED-TTL:PT1H
BEGIN:VTIMEZONE
TZID:Europe/Stockholm
BEGIN:DAYLIGHT
TZOFFSETFROM:+0100
TZOFFSETTO:+0200
TZNAME:CEST
DTSTART:20180325T010000
END:DAYLIGHT
BEGIN:STANDARD
TZOFFSETFROM:+0200
TZOFFSETTO:+0100
TZNAME:CET
DTSTART:20181028T010000
END:STANDARD
BEGIN:DAYLIGHT
TZOFFSETFROM:+0100
TZOFFSETTO:+0200
TZNAME:CEST
DTSTART:20190331T010000
END:DAYLIGHT
BEGIN:STANDARD
TZOFFSETFROM:+0200
TZOFFSETTO:+0100
TZNAME:CET
DTSTART:20191027T010000
END:STANDARD
BEGIN:DAYLIGHT
TZOFFSETFROM:+0100
TZOFFSETTO:+0200
TZNAME:CEST
DTSTART:20200329T010000
END:DAYLIGHT
BEGIN:STANDARD
TZOFFSETFROM:+0200
TZOFFSETTO:+0100
TZNAME:CET
DTSTART:20201025T010000
END:STANDARD
END:VTIMEZONE
BEGIN:VEVENT
DTSTART;TZID=Europe/Stockholm:20191130T103000
DTEND;TZID=Europe/Stockholm:20191130T123000
DTSTAMP:20260420T071933
CREATED:20191105T133950Z
LAST-MODIFIED:20191105T133950Z
UID:3772-1575109800-1575117000@guldkullens.se
SUMMARY:Fristående Träning Walked Up (WALK1-7)\, Start 30/11\, 2019
DESCRIPTION:1 tillfälle\nNär: Lördag\, 30/11\nKl 11.30-13.30 \nUpplägg/Funktionärer: Marlene & Per-Anders Edvinsson\nMail: Guldkullens Kennel & Kurser\nAntal: Max 8-10 deltagare med hund – Öppet för anmälan!\nKurskod WALK1-7 \n”En fristående träning där vi går på linje\, walked up. Detta är ett träningstillfälle för dig som har en styrbar hund med god stadga när andra hundar arbetar och som är skottvan. Träningen kommer inte att hållas i kursform\, utan du kommer att få löpande feedback om du så önskar.  \nVi erbjuder dig ett färdigt träningsupplägg där skott och markhyra samt feedback ingår. Nivån kommer att ligga på novice/open\, men du kan även välja vilken typ av apport du vill ha varje gång det är din tur. Detta gör att du själv kan anpassa nivån efter din hund och du kan även välja att ha din hund kopplad tills det är din tur t ex. Vill du enbart träna på fotgående och avstå vissa eller samtliga apporter så går det också bra. \nVi träffas hos oss på Guldkullens Kennel & Kurser i Rävlanda och utgår härifrån. Tag gärna med tre egna märkta dummies.” \nReservplats\nOm kursen är fullbokad kan du boka en reservplats genom att välja biljetten ”reserv”. Du sätts då upp på en reservlista och vi kontaktar dig om det blir en plats ledig till dig. Att stå som reserv är inte bindande och du är inte heller garanterad plats förrän vi hört av oss till dig angående ledig plats. Om du accepterar din reservplats betalar du kursavgiften så snart som möjligt. Vi är tacksamma för att du bokar en reservplats\, det visar oss att det finns intresse och med tillräckligt många reserver kan vi kanske planera för ännu en kurs. \nÖvrigt\nEn person & hund per anmälan gäller och inga hundar utanför kursen (undantaget instruktörers hund/hundar) får närvara under kursen med hänsyn till övriga kursdeltagare. \nÅhörarplats utan hund finns att köpa på vissa av våra kurser! \nKöpvillkor >>> \nTrivselregler >>> \nVälkommen med din bokning!
URL:https://guldkullens.se/kurs/fristaende-traning-walked-up-walk1-7-start-30-11-2019
LOCATION:Guldkullens Kennel & Kurser\, Barkkulla 401\, Rävlanda\, 43897\, Sverige
CATEGORIES:Kommande Kurser,Walked up
END:VEVENT
BEGIN:VEVENT
DTSTART;TZID=Europe/Stockholm:20191124T103000
DTEND;TZID=Europe/Stockholm:20191124T123000
DTSTAMP:20260420T071933
CREATED:20191103T212124Z
LAST-MODIFIED:20191105T134143Z
UID:3739-1574591400-1574598600@guldkullens.se
SUMMARY:Fristående Träning Walked Up (WALK1-6) I Start 24/11\, 2019
DESCRIPTION:1 tillfälle\nNär: Söndag\, 24/11\nKl 11.30-13.30 \nUpplägg/Funktionärer: Marlene & Per-Anders Edvinsson\nMail: Guldkullens Kennel & Kurser\nAntal: Max 8-10 deltagare med hund – Fullt! Boka gärna den 30/11 samma tid\, eller boka reservplats!\nKurskod WALK1-6 \n”En fristående träning där vi går på linje\, walked up. Detta är ett träningstillfälle för dig som har en styrbar hund med god stadga när andra hundar arbetar och som är skottvan. Träningen kommer inte att hållas i kursform\, utan du kommer att få löpande feedback om du så önskar.  \nVi erbjuder dig ett färdigt träningsupplägg där skott och markhyra samt feedback ingår. Nivån kommer att ligga på novice/open\, men du kan även välja vilken typ av apport du vill ha varje gång det är din tur. Detta gör att du själv kan anpassa nivån efter din hund och du kan även välja att ha din hund kopplad tills det är din tur t ex. Vill du enbart träna på fotgående och avstå vissa eller samtliga apporter så går det också bra. \nVi träffas hos oss på Guldkullens Kennel & Kurser i Rävlanda och utgår härifrån. Tag gärna med tre egna märkta dummies.” \nReservplats\nOm kursen är fullbokad kan du boka en reservplats genom att välja biljetten ”reserv”. Du sätts då upp på en reservlista och vi kontaktar dig om det blir en plats ledig till dig. Att stå som reserv är inte bindande och du är inte heller garanterad plats förrän vi hört av oss till dig angående ledig plats. Om du accepterar din reservplats betalar du kursavgiften så snart som möjligt. Vi är tacksamma för att du bokar en reservplats\, det visar oss att det finns intresse och med tillräckligt många reserver kan vi kanske planera för ännu en kurs. \nÖvrigt\nEn person & hund per anmälan gäller och inga hundar utanför kursen (undantaget instruktörers hund/hundar) får närvara under kursen med hänsyn till övriga kursdeltagare. \nÅhörarplats utan hund finns att köpa på vissa av våra kurser! \nKöpvillkor >>> \nTrivselregler >>> \nVälkommen med din bokning!
URL:https://guldkullens.se/kurs/fristaende-traning-walked-up
LOCATION:Guldkullens Kennel & Kurser\, Barkkulla 401\, Rävlanda\, 43897\, Sverige
CATEGORIES:Kommande Kurser,Walked up
END:VEVENT
END:VCALENDAR